BEGIN:VCALENDAR
VERSION:2.0
PRODID:-//Gordon County Calhoun, GA. All Rights Reserved. - ECPv6.15.20//NONSGML v1.0//EN
CALSCALE:GREGORIAN
METHOD:PUBLISH
X-WR-CALNAME:Gordon County Calhoun, GA. All Rights Reserved.
X-ORIGINAL-URL:https://explorecalhoungordon.com
X-WR-CALDESC:Events for Gordon County Calhoun, GA. All Rights Reserved.
REFRESH-INTERVAL;VALUE=DURATION:PT1H
X-Robots-Tag:noindex
X-PUBLISHED-TTL:PT1H
BEGIN:VTIMEZONE
TZID:America/New_York
BEGIN:DAYLIGHT
TZOFFSETFROM:-0500
TZOFFSETTO:-0400
TZNAME:EDT
DTSTART:20250309T070000
END:DAYLIGHT
BEGIN:STANDARD
TZOFFSETFROM:-0400
TZOFFSETTO:-0500
TZNAME:EST
DTSTART:20251102T060000
END:STANDARD
BEGIN:DAYLIGHT
TZOFFSETFROM:-0500
TZOFFSETTO:-0400
TZNAME:EDT
DTSTART:20260308T070000
END:DAYLIGHT
BEGIN:STANDARD
TZOFFSETFROM:-0400
TZOFFSETTO:-0500
TZNAME:EST
DTSTART:20261101T060000
END:STANDARD
BEGIN:DAYLIGHT
TZOFFSETFROM:-0500
TZOFFSETTO:-0400
TZNAME:EDT
DTSTART:20270314T070000
END:DAYLIGHT
BEGIN:STANDARD
TZOFFSETFROM:-0400
TZOFFSETTO:-0500
TZNAME:EST
DTSTART:20271107T060000
END:STANDARD
END:VTIMEZONE
BEGIN:VEVENT
DTSTART;VALUE=DATE:20260218
DTEND;VALUE=DATE:20260401
DTSTAMP:20260422T080003
CREATED:20260106T172241Z
LAST-MODIFIED:20260106T172241Z
UID:8179-1771372800-1775001599@explorecalhoungordon.com
SUMMARY:Harris Arts Center Spring Basket Fundraiser
DESCRIPTION:The annual Spring Fling Basket Fundraiser is back at the Harris Arts Center\, running February 18–March 31! Stop by to browse a variety of creatively themed gift baskets filled with specialty items and gift certificates\, with themes that appeal to men\, women\, children\, and even pets. \nAs one of the Arts Center’s largest fundraisers\, all proceeds support continued artistic programming. The Harris Arts Center is open Monday–Friday from 10 a.m. to 4 p.m.\, and admission is free. Don’t miss your chance to see all the baskets in person and support the arts!
URL:https://explorecalhoungordon.com/event/harris-arts-center-spring-basket-fundraiser/
LOCATION:Harris Arts Center\, 212 S Wall Street\, Calhoun\, GA\, 30701\, United States
CATEGORIES:Arts/Entertainment,Fundraiser
ATTACH;FMTTYPE=image/jpeg:https://explorecalhoungordon.com/wp-content/uploads/2026/01/HAC-Spring-Basket-Fundraiser-scaled.jpg
END:VEVENT
BEGIN:VEVENT
DTSTART;VALUE=DATE:20260123
DTEND;VALUE=DATE:20260125
DTSTAMP:20260422T080003
CREATED:20260106T165854Z
LAST-MODIFIED:20260106T165854Z
UID:8175-1769126400-1769299199@explorecalhoungordon.com
SUMMARY:Murder Mystery Dinner Theater
DESCRIPTION:Ring in the new year with the return of everyone’s favorite Murder Mystery event! Join us January 23 and 24 for an evening filled with intrigue\, laughter\, and plenty of surprises. The Demise of the Downhome Dealer promises a memorable night of mystery and good fun you won’t want to miss.
URL:https://explorecalhoungordon.com/event/murder-mystery-dinner-theater/
LOCATION:Harris Arts Center\, 212 S Wall Street\, Calhoun\, GA\, 30701\, United States
CATEGORIES:Arts/Entertainment,Food
ATTACH;FMTTYPE=image/png:https://explorecalhoungordon.com/wp-content/uploads/2026/01/Murder-Mys.png
END:VEVENT
END:VCALENDAR